BEGIN:VCALENDAR
VERSION:2.0
PRODID:-//Plone.org//NONSGML plone.app.event//EN
X-WR-TIMEZONE:Europe/Zurich
BEGIN:VEVENT
SUMMARY:Kulturkirche Goldküste jazz+more Yves Theiler Trio feat. Uwe Stei
 nmetz
DTSTART;TZID=Europe/Zurich;VALUE=DATE-TIME:20220506T200000
DTSTAMP;VALUE=DATE-TIME:20260420T233502Z
UID:6558681828a5495ea27632da85f25718@localhost:10681
CREATED;VALUE=DATE-TIME:20220103T093834Z
LAST-MODIFIED;VALUE=DATE-TIME:20220103T093834Z
LOCATION:Reformierte Kirche
URL:https://www.bluechurch.ch/events/kulturkirche-goldkueste-jazz-more-yve
 s-theiler-trio-feat-uwe-steinmetz
END:VEVENT
BEGIN:VTIMEZONE
TZID:Europe/Zurich
X-LIC-LOCATION:Europe/Zurich
BEGIN:DAYLIGHT
DTSTART;VALUE=DATE-TIME:20220327T030000
TZNAME:CEST
TZOFFSETFROM:+0100
TZOFFSETTO:+0200
END:DAYLIGHT
END:VTIMEZONE
END:VCALENDAR
