BEGIN:VCALENDAR
VERSION:2.0
PRODID:-//Plone.org//NONSGML plone.app.event//EN
X-WR-TIMEZONE:Europe/Zurich
BEGIN:VEVENT
SUMMARY:KulturKirche Goldküste jazz+more: Tord Gustavsen Trio verschoben 
 auf 10.9.2021 / Ersatz: Marcin Grochowina Trio
DTSTART;TZID=Europe/Zurich;VALUE=DATE-TIME:20201030T200000
DTSTAMP;VALUE=DATE-TIME:20260420T184522Z
UID:975c86704d16429388955e4494fa6718@localhost:10681
CREATED;VALUE=DATE-TIME:20191219T075701Z
LAST-MODIFIED;VALUE=DATE-TIME:20200921T155311Z
LOCATION:Reformierte Kirche
URL:https://www.bluechurch.ch/events/kulturkirche-goldkueste-jazz-more-tor
 d-gustavsen-trio
END:VEVENT
BEGIN:VTIMEZONE
TZID:Europe/Zurich
X-LIC-LOCATION:Europe/Zurich
BEGIN:STANDARD
DTSTART;VALUE=DATE-TIME:20201025T020000
TZNAME:CET
TZOFFSETFROM:+0200
TZOFFSETTO:+0100
END:STANDARD
END:VTIMEZONE
END:VCALENDAR
