BEGIN:VCALENDAR
VERSION:2.0
PRODID:-//Plone.org//NONSGML plone.app.event//EN
X-WR-TIMEZONE:Europe/Zurich
BEGIN:VEVENT
SUMMARY:Tord Gustavsen Trio   KulturKirche Goldküste jazz+more   Anmeldun
 g auf rkk.ch!
DTSTART;TZID=Europe/Zurich;VALUE=DATE-TIME:20210910T200000
DTSTAMP;VALUE=DATE-TIME:20260420T201353Z
UID:d78b10281f5d46f4a2bbb92f81cf4303@localhost:10681
CREATED;VALUE=DATE-TIME:20210602T122746Z
LAST-MODIFIED;VALUE=DATE-TIME:20210906T074857Z
LOCATION:Reformierte Kirche küsnacht
URL:https://www.bluechurch.ch/events/kulturkirche-goldkueste-jazz-more-tor
 d-gustavsen-trio-1
END:VEVENT
BEGIN:VTIMEZONE
TZID:Europe/Zurich
X-LIC-LOCATION:Europe/Zurich
BEGIN:DAYLIGHT
DTSTART;VALUE=DATE-TIME:20210328T030000
TZNAME:CEST
TZOFFSETFROM:+0100
TZOFFSETTO:+0200
END:DAYLIGHT
END:VTIMEZONE
END:VCALENDAR
