BEGIN:VCALENDAR
VERSION:2.0
PRODID:-//Plone.org//NONSGML plone.app.event//EN
X-WR-TIMEZONE:Europe/Zurich
BEGIN:VEVENT
SUMMARY:Kulturkirche Goldküste jazz+more Stewy von Wattenwyl feat. Nicole
  Herzog
DTSTART;TZID=Europe/Zurich;VALUE=DATE-TIME:20220902T200000
DTSTAMP;VALUE=DATE-TIME:20260420T232110Z
UID:9defe3e791e348bd9e2582a40a70681d@localhost:10681
CREATED;VALUE=DATE-TIME:20220103T094431Z
LAST-MODIFIED;VALUE=DATE-TIME:20220103T094431Z
LOCATION:Reformierte Kirche
URL:https://www.bluechurch.ch/events/kulturkirche-goldkueste-jazz-more-ste
 wy-von-wattenwyl-feat-nicole-herzog
END:VEVENT
BEGIN:VTIMEZONE
TZID:Europe/Zurich
X-LIC-LOCATION:Europe/Zurich
BEGIN:DAYLIGHT
DTSTART;VALUE=DATE-TIME:20220327T030000
TZNAME:CEST
TZOFFSETFROM:+0100
TZOFFSETTO:+0200
END:DAYLIGHT
END:VTIMEZONE
END:VCALENDAR
