BEGIN:VCALENDAR
VERSION:2.0
PRODID:-//Plone.org//NONSGML plone.app.event//EN
X-WR-TIMEZONE:Europe/Zurich
BEGIN:VEVENT
SUMMARY:KulturKircheGoldküste jazz+more: KLARO! Karolina Strassmayer & Dr
 ori Mondlak
DTSTART;TZID=Europe/Zurich;VALUE=DATE-TIME:20200228T200000
DTSTAMP;VALUE=DATE-TIME:20260420T170815Z
UID:dfe6f951dd014b3c8f8614c43d70bd45@localhost:10681
CREATED;VALUE=DATE-TIME:20191219T073830Z
LAST-MODIFIED;VALUE=DATE-TIME:20200129T082239Z
LOCATION:Reformierte Kirche
URL:https://www.bluechurch.ch/events/kulturkirche-goldkueste-jazz-more-kla
 ro-karolina-strassmayer-drori-mondlak
END:VEVENT
BEGIN:VTIMEZONE
TZID:Europe/Zurich
X-LIC-LOCATION:Europe/Zurich
BEGIN:STANDARD
DTSTART;VALUE=DATE-TIME:20191027T020000
TZNAME:CET
TZOFFSETFROM:+0200
TZOFFSETTO:+0100
END:STANDARD
END:VTIMEZONE
END:VCALENDAR
