BEGIN:VCALENDAR
VERSION:2.0
PRODID:-//Plone.org//NONSGML plone.app.event//EN
X-WR-TIMEZONE:Europe/Zurich
BEGIN:VEVENT
SUMMARY:Kulturkirche Goldküste jazz+more CHEIBE BALAGAN
DTSTART;TZID=Europe/Zurich;VALUE=DATE-TIME:20220401T200000
DTSTAMP;VALUE=DATE-TIME:20260420T214418Z
UID:29d0a18d3bff4e83b8295a3091ceab15@localhost:10681
CREATED;VALUE=DATE-TIME:20220103T092354Z
LAST-MODIFIED;VALUE=DATE-TIME:20220103T092354Z
LOCATION:Reformierte Kirche
URL:https://www.bluechurch.ch/events/kulturkirche-goldkueste-jazz-more-che
 ibe-balagan
END:VEVENT
BEGIN:VTIMEZONE
TZID:Europe/Zurich
X-LIC-LOCATION:Europe/Zurich
BEGIN:DAYLIGHT
DTSTART;VALUE=DATE-TIME:20220327T030000
TZNAME:CEST
TZOFFSETFROM:+0100
TZOFFSETTO:+0200
END:DAYLIGHT
END:VTIMEZONE
END:VCALENDAR
