BEGIN:VCALENDAR
VERSION:2.0
PRODID:-//Plone.org//NONSGML plone.app.event//EN
X-WR-TIMEZONE:Europe/Zurich
BEGIN:VEVENT
SUMMARY:Kulturkirche Goldküste jazz+more Joe Haider Trio
DTSTART;TZID=Europe/Zurich;VALUE=DATE-TIME:20220930T200000
DTSTAMP;VALUE=DATE-TIME:20260420T231910Z
UID:88a3c2632da042b08f9e20bb6e5b48c0@localhost:10681
CREATED;VALUE=DATE-TIME:20220103T094938Z
LAST-MODIFIED;VALUE=DATE-TIME:20220314T080047Z
LOCATION:Reformierte Kirche
URL:https://www.bluechurch.ch/events/kulturkirche-goldkueste-jazz-more-bar
 bara-dennerlein-live
END:VEVENT
BEGIN:VTIMEZONE
TZID:Europe/Zurich
X-LIC-LOCATION:Europe/Zurich
BEGIN:DAYLIGHT
DTSTART;VALUE=DATE-TIME:20220327T030000
TZNAME:CEST
TZOFFSETFROM:+0100
TZOFFSETTO:+0200
END:DAYLIGHT
END:VTIMEZONE
END:VCALENDAR
