BEGIN:VCALENDAR
VERSION:2.0
PRODID:-//Plone.org//NONSGML plone.app.event//EN
X-WR-TIMEZONE:Europe/Zurich
BEGIN:VEVENT
SUMMARY:Kulturkirche Goldküste\,  jazz+more\, Hans Ueli Schlaepfer Trio m
 it Jonas Knecht
DTSTART;TZID=Europe/Zurich;VALUE=DATE-TIME:20190405T200000
DTSTAMP;VALUE=DATE-TIME:20260420T170815Z
UID:187d845c0ca9467dbdcc11e6784bfa33@localhost:10681
CREATED;VALUE=DATE-TIME:20190107T135952Z
LAST-MODIFIED;VALUE=DATE-TIME:20190107T142320Z
LOCATION:Reformierte Kirche
URL:https://www.bluechurch.ch/events/kulturkirche-goldkueste-hans-ueli-sch
 laepfer-trio-mit-jonas-knecht
END:VEVENT
BEGIN:VTIMEZONE
TZID:Europe/Zurich
X-LIC-LOCATION:Europe/Zurich
BEGIN:DAYLIGHT
DTSTART;VALUE=DATE-TIME:20190331T030000
TZNAME:CEST
TZOFFSETFROM:+0100
TZOFFSETTO:+0200
END:DAYLIGHT
END:VTIMEZONE
END:VCALENDAR
