BEGIN:VCALENDAR
VERSION:2.0
PRODID:-//Plone.org//NONSGML plone.app.event//EN
X-WR-TIMEZONE:Europe/Zurich
BEGIN:VEVENT
SUMMARY:Kulturkirche Goldküste\,  jazz+more\, Christina Jaccard – Lady 
 Sings The Blues
DTSTART;TZID=Europe/Zurich;VALUE=DATE-TIME:20191206T200000
DTSTAMP;VALUE=DATE-TIME:20260420T153518Z
UID:f66d7d97882e4145a2b14e4ca81f13cb@localhost:10681
CREATED;VALUE=DATE-TIME:20190107T141300Z
LAST-MODIFIED;VALUE=DATE-TIME:20190107T142432Z
LOCATION:Reformierte Kirche
URL:https://www.bluechurch.ch/events/kulturkirche-goldkueste-christina-jac
 card-lady-sings-the-blues
END:VEVENT
BEGIN:VTIMEZONE
TZID:Europe/Zurich
X-LIC-LOCATION:Europe/Zurich
BEGIN:STANDARD
DTSTART;VALUE=DATE-TIME:20191027T020000
TZNAME:CET
TZOFFSETFROM:+0200
TZOFFSETTO:+0100
END:STANDARD
END:VTIMEZONE
END:VCALENDAR
