BEGIN:VCALENDAR
VERSION:2.0
PRODID:-//Plone.org//NONSGML plone.app.event//EN
X-WR-TIMEZONE:Europe/Zurich
BEGIN:VEVENT
SUMMARY:KONZERT FÜR BIGBAND & ORGEL
DTSTART;TZID=Europe/Zurich;VALUE=DATE-TIME:20220723T190000
DTSTAMP;VALUE=DATE-TIME:20260420T231627Z
UID:f72e3e4d61244fdf8c93c78d9937f9ed@localhost:10681
CREATED;VALUE=DATE-TIME:20220713T115942Z
LAST-MODIFIED;VALUE=DATE-TIME:20220713T120050Z
LOCATION:Evang. Stadtkirche Tuttlingen
URL:https://www.bluechurch.ch/events/konzert-fur-bigband-orgel
END:VEVENT
BEGIN:VTIMEZONE
TZID:Europe/Zurich
X-LIC-LOCATION:Europe/Zurich
BEGIN:DAYLIGHT
DTSTART;VALUE=DATE-TIME:20220327T030000
TZNAME:CEST
TZOFFSETFROM:+0100
TZOFFSETTO:+0200
END:DAYLIGHT
END:VTIMEZONE
END:VCALENDAR
