BEGIN:VCALENDAR
VERSION:2.0
PRODID:-//Plone.org//NONSGML plone.app.event//EN
X-WR-TIMEZONE:Europe/Zurich
BEGIN:VEVENT
SUMMARY:Klangkosmos in der Chiesa Bianca Maloja
DTSTART;TZID=Europe/Zurich;VALUE=DATE-TIME:20200808T200000
DTSTAMP;VALUE=DATE-TIME:20260420T171526Z
UID:9583750d4ab84002a0d82c88246c8f74@localhost:10681
CREATED;VALUE=DATE-TIME:20200726T164122Z
LAST-MODIFIED;VALUE=DATE-TIME:20200726T164122Z
LOCATION:Chiesa Bianca\, 7516 Bregaglia
URL:https://www.bluechurch.ch/events/klangkosmos-in-der-chiesa-bianca-malo
 ja
END:VEVENT
BEGIN:VTIMEZONE
TZID:Europe/Zurich
X-LIC-LOCATION:Europe/Zurich
BEGIN:DAYLIGHT
DTSTART;VALUE=DATE-TIME:20200329T030000
TZNAME:CEST
TZOFFSETFROM:+0100
TZOFFSETTO:+0200
END:DAYLIGHT
END:VTIMEZONE
END:VCALENDAR
