BEGIN:VCALENDAR
VERSION:2.0
PRODID:-//Plone.org//NONSGML plone.app.event//EN
X-WR-TIMEZONE:Europe/Zurich
BEGIN:VEVENT
SUMMARY:KIRCHE KREATIV
DTSTART;TZID=Europe/Zurich;VALUE=DATE-TIME:20220403T180000
DTSTAMP;VALUE=DATE-TIME:20260420T213159Z
UID:62339c0476bb4353aea408005d5021d9@localhost:10681
CREATED;VALUE=DATE-TIME:20220331T201809Z
LAST-MODIFIED;VALUE=DATE-TIME:20220331T201945Z
LOCATION:Basel\, Pauluskirche
URL:https://www.bluechurch.ch/events/kirche-kreativ-6
END:VEVENT
BEGIN:VTIMEZONE
TZID:Europe/Zurich
X-LIC-LOCATION:Europe/Zurich
BEGIN:DAYLIGHT
DTSTART;VALUE=DATE-TIME:20220327T030000
TZNAME:CEST
TZOFFSETFROM:+0100
TZOFFSETTO:+0200
END:DAYLIGHT
END:VTIMEZONE
END:VCALENDAR
