BEGIN:VCALENDAR
VERSION:2.0
PRODID:-//Plone.org//NONSGML plone.app.event//EN
X-WR-TIMEZONE:Europe/Zurich
BEGIN:VEVENT
SUMMARY:KIRCHE KREATIV
DTSTART;TZID=Europe/Zurich;VALUE=DATE-TIME:20220220T180000
DTSTAMP;VALUE=DATE-TIME:20260420T213946Z
UID:f511921fdfc745fd88260d14e7196740@localhost:10681
CREATED;VALUE=DATE-TIME:20220215T204839Z
LAST-MODIFIED;VALUE=DATE-TIME:20220215T204839Z
LOCATION:Pauluskirche
URL:https://www.bluechurch.ch/events/kirche-kreativ-5
END:VEVENT
BEGIN:VTIMEZONE
TZID:Europe/Zurich
X-LIC-LOCATION:Europe/Zurich
BEGIN:STANDARD
DTSTART;VALUE=DATE-TIME:20211031T020000
TZNAME:CET
TZOFFSETFROM:+0200
TZOFFSETTO:+0100
END:STANDARD
END:VTIMEZONE
END:VCALENDAR
