BEGIN:VCALENDAR
VERSION:2.0
PRODID:-//Plone.org//NONSGML plone.app.event//EN
X-WR-TIMEZONE:Europe/Zurich
BEGIN:VEVENT
SUMMARY:KIRCHE KREATIV
DTSTART;TZID=Europe/Zurich;VALUE=DATE-TIME:20200830T180000
DTSTAMP;VALUE=DATE-TIME:20260420T170219Z
UID:0121a686fcdf4c3fbaf7ed18126dbb1a@localhost:10681
CREATED;VALUE=DATE-TIME:20200815T111756Z
LAST-MODIFIED;VALUE=DATE-TIME:20200815T111756Z
LOCATION:Pauluskirche Basel
URL:https://www.bluechurch.ch/events/kirche-kreativ-4
END:VEVENT
BEGIN:VTIMEZONE
TZID:Europe/Zurich
X-LIC-LOCATION:Europe/Zurich
BEGIN:DAYLIGHT
DTSTART;VALUE=DATE-TIME:20200329T030000
TZNAME:CEST
TZOFFSETFROM:+0100
TZOFFSETTO:+0200
END:DAYLIGHT
END:VTIMEZONE
END:VCALENDAR
