BEGIN:VCALENDAR
VERSION:2.0
PRODID:-//Plone.org//NONSGML plone.app.event//EN
X-WR-TIMEZONE:Europe/Zurich
BEGIN:VEVENT
SUMMARY:KIRCHE KREATIV
DTSTART;TZID=Europe/Zurich;VALUE=DATE-TIME:20200223T180000
DTSTAMP;VALUE=DATE-TIME:20260420T170151Z
UID:f342f60efb3d446cb02037d713040016@localhost:10681
CREATED;VALUE=DATE-TIME:20200219T222630Z
LAST-MODIFIED;VALUE=DATE-TIME:20200219T222745Z
LOCATION:Basel
URL:https://www.bluechurch.ch/events/kirche-kreativ-3
END:VEVENT
BEGIN:VTIMEZONE
TZID:Europe/Zurich
X-LIC-LOCATION:Europe/Zurich
BEGIN:STANDARD
DTSTART;VALUE=DATE-TIME:20191027T020000
TZNAME:CET
TZOFFSETFROM:+0200
TZOFFSETTO:+0100
END:STANDARD
END:VTIMEZONE
END:VCALENDAR
