BEGIN:VCALENDAR
VERSION:2.0
PRODID:-//Plone.org//NONSGML plone.app.event//EN
X-WR-TIMEZONE:Europe/Zurich
BEGIN:VEVENT
SUMMARY:Kirche Herblingen in Schaffhausen
DTSTART;TZID=Europe/Zurich;VALUE=DATE-TIME:20210111T100000
DTSTAMP;VALUE=DATE-TIME:20260420T183536Z
UID:52cc3ec19e284817be2a86a25961c2d3@localhost:10681
CREATED;VALUE=DATE-TIME:20210111T112219Z
LAST-MODIFIED;VALUE=DATE-TIME:20210111T112219Z
LOCATION:Schaffhausen
URL:https://www.bluechurch.ch/events/kirche-herblingen-in-schaffhausen
END:VEVENT
BEGIN:VTIMEZONE
TZID:Europe/Zurich
X-LIC-LOCATION:Europe/Zurich
BEGIN:STANDARD
DTSTART;VALUE=DATE-TIME:20201025T020000
TZNAME:CET
TZOFFSETFROM:+0200
TZOFFSETTO:+0100
END:STANDARD
END:VTIMEZONE
END:VCALENDAR
