BEGIN:VCALENDAR
VERSION:2.0
PRODID:-//Plone.org//NONSGML plone.app.event//EN
X-WR-TIMEZONE:Europe/Zurich
BEGIN:VEVENT
SUMMARY:Kirche Herblingen in Schaffhausen
DTSTART;TZID=Europe/Zurich;VALUE=DATE-TIME:20210620T100000
DTSTAMP;VALUE=DATE-TIME:20260420T183930Z
UID:f40af1ec366d4ba0bd2093757bbf7cd5@localhost:10681
CREATED;VALUE=DATE-TIME:20210224T085218Z
LAST-MODIFIED;VALUE=DATE-TIME:20210421T142806Z
LOCATION:Schaffhausen
URL:https://www.bluechurch.ch/events/kirche-herblingen-in-schaffhausen-1
END:VEVENT
BEGIN:VTIMEZONE
TZID:Europe/Zurich
X-LIC-LOCATION:Europe/Zurich
BEGIN:DAYLIGHT
DTSTART;VALUE=DATE-TIME:20210328T030000
TZNAME:CEST
TZOFFSETFROM:+0100
TZOFFSETTO:+0200
END:DAYLIGHT
END:VTIMEZONE
END:VCALENDAR
