BEGIN:VCALENDAR
VERSION:2.0
PRODID:-//Plone.org//NONSGML plone.app.event//EN
X-WR-TIMEZONE:Europe/Zurich
BEGIN:VEVENT
SUMMARY:Kind of eastPLUGGED
DTSTART;TZID=Europe/Zurich;VALUE=DATE-TIME:20190510T200000
DTSTAMP;VALUE=DATE-TIME:20260420T170354Z
UID:3c30a41aab8d42b7851591a394e5f9da@localhost:10681
CREATED;VALUE=DATE-TIME:20181114T095853Z
LAST-MODIFIED;VALUE=DATE-TIME:20190307T103518Z
LOCATION:Friedenskirche\, Hegelstrasse 16
URL:https://www.bluechurch.ch/events/kind-of-eastplugged
END:VEVENT
BEGIN:VTIMEZONE
TZID:Europe/Zurich
X-LIC-LOCATION:Europe/Zurich
BEGIN:DAYLIGHT
DTSTART;VALUE=DATE-TIME:20190331T030000
TZNAME:CEST
TZOFFSETFROM:+0100
TZOFFSETTO:+0200
END:DAYLIGHT
END:VTIMEZONE
END:VCALENDAR
