BEGIN:VCALENDAR
VERSION:2.0
PRODID:-//Plone.org//NONSGML plone.app.event//EN
X-WR-TIMEZONE:Europe/Zurich
BEGIN:VEVENT
SUMMARY:Jufer Hoppe Gray
DTSTART;TZID=Europe/Zurich;VALUE=DATE-TIME:20190327T200000
DTSTAMP;VALUE=DATE-TIME:20260420T170025Z
UID:73dee72538484866a3df48e9fdbaedbd@localhost:10681
CREATED;VALUE=DATE-TIME:20190327T051233Z
LAST-MODIFIED;VALUE=DATE-TIME:20190327T051233Z
LOCATION:Jardin Cosmique
URL:https://www.bluechurch.ch/events/jufer-hoppe-gray
END:VEVENT
BEGIN:VTIMEZONE
TZID:Europe/Zurich
X-LIC-LOCATION:Europe/Zurich
BEGIN:STANDARD
DTSTART;VALUE=DATE-TIME:20181028T020000
TZNAME:CET
TZOFFSETFROM:+0200
TZOFFSETTO:+0100
END:STANDARD
END:VTIMEZONE
END:VCALENDAR
