BEGIN:VCALENDAR
VERSION:2.0
PRODID:-//Plone.org//NONSGML plone.app.event//EN
X-WR-TIMEZONE:Europe/Zurich
BEGIN:VEVENT
SUMMARY:Joy: von der Freude der Begegnung // Jazzgottesdienst – Geist. G
 egenwart. Improvisation
DTSTART;TZID=Europe/Zurich;VALUE=DATE-TIME:20260517T180000
DTSTAMP;VALUE=DATE-TIME:20260420T102123Z
UID:e1ad10904ccd49a59bfe1cb7eef4a829@localhost:10681
CREATED;VALUE=DATE-TIME:20250825T140216Z
LAST-MODIFIED;VALUE=DATE-TIME:20250825T140217Z
LOCATION:Markuskirche\, Sieglitzhofer Straße 4
URL:https://www.bluechurch.ch/events/joy-von-der-freude-der-begegnung-jazz
 gottesdienst-geist-gegenwart-improvisation
END:VEVENT
BEGIN:VTIMEZONE
TZID:Europe/Zurich
X-LIC-LOCATION:Europe/Zurich
BEGIN:DAYLIGHT
DTSTART;VALUE=DATE-TIME:20260329T030000
TZNAME:CEST
TZOFFSETFROM:+0100
TZOFFSETTO:+0200
END:DAYLIGHT
END:VTIMEZONE
END:VCALENDAR
