BEGIN:VCALENDAR
VERSION:2.0
PRODID:-//Plone.org//NONSGML plone.app.event//EN
X-WR-TIMEZONE:Europe/Zurich
BEGIN:VEVENT
SUMMARY:Jazzkirche Zürich: Benefizkonzert für Nothilfe in der Ukraine
DTSTART;TZID=Europe/Zurich;VALUE=DATE-TIME:20220826T193000
DTSTAMP;VALUE=DATE-TIME:20260420T232233Z
UID:758c1bfd2e38484d93fb4eefbbb66c8f@localhost:10681
CREATED;VALUE=DATE-TIME:20220629T152813Z
LAST-MODIFIED;VALUE=DATE-TIME:20220629T153130Z
LOCATION:Reformierte Kirche\, Ginsterstrasse 50\, 8047 Zürich
URL:https://www.bluechurch.ch/events/jazzkirche-zuerich-benefizkonzert-fue
 r-nothilfe-in-der-ukraine
END:VEVENT
BEGIN:VTIMEZONE
TZID:Europe/Zurich
X-LIC-LOCATION:Europe/Zurich
BEGIN:DAYLIGHT
DTSTART;VALUE=DATE-TIME:20220327T030000
TZNAME:CEST
TZOFFSETFROM:+0100
TZOFFSETTO:+0200
END:DAYLIGHT
END:VTIMEZONE
END:VCALENDAR
