BEGIN:VCALENDAR
VERSION:2.0
PRODID:-//Plone.org//NONSGML plone.app.event//EN
X-WR-TIMEZONE:Europe/Zurich
BEGIN:VEVENT
SUMMARY:Jazzige Weihnachten
DTSTART;TZID=Europe/Zurich;VALUE=DATE-TIME:20191225T101500
DTSTAMP;VALUE=DATE-TIME:20260420T153049Z
UID:e9bd61cf1c2246158a70eaf69d933890@localhost:10681
CREATED;VALUE=DATE-TIME:20191221T123457Z
LAST-MODIFIED;VALUE=DATE-TIME:20191221T123457Z
LOCATION:Reformierte Kirche Baden\, Bahnhofplatz 8
URL:https://www.bluechurch.ch/events/jazzige-weihnachten
END:VEVENT
BEGIN:VTIMEZONE
TZID:Europe/Zurich
X-LIC-LOCATION:Europe/Zurich
BEGIN:STANDARD
DTSTART;VALUE=DATE-TIME:20191027T020000
TZNAME:CET
TZOFFSETFROM:+0200
TZOFFSETTO:+0100
END:STANDARD
END:VTIMEZONE
END:VCALENDAR
