BEGIN:VCALENDAR
VERSION:2.0
PRODID:-//Plone.org//NONSGML plone.app.event//EN
X-WR-TIMEZONE:Europe/Zurich
BEGIN:VEVENT
SUMMARY:Jazzgottesdienst zur Begrüssung von Pfr. Martin Scheidegger im Ki
 rchenkreis neun
DTSTART;TZID=Europe/Zurich;VALUE=DATE-TIME:20210418T100000
DTSTAMP;VALUE=DATE-TIME:20260420T184704Z
UID:19c7efe5ed6f45c089c386ca5d203801@localhost:10681
CREATED;VALUE=DATE-TIME:20210408T181427Z
LAST-MODIFIED;VALUE=DATE-TIME:20210408T181427Z
LOCATION:Neue Kirche Albisrieden
URL:https://www.bluechurch.ch/events/jazzgottesdienst-zur-begruessung-von-
 pfr-martin-scheidegger-im-kirchenkreis-neun
END:VEVENT
BEGIN:VTIMEZONE
TZID:Europe/Zurich
X-LIC-LOCATION:Europe/Zurich
BEGIN:DAYLIGHT
DTSTART;VALUE=DATE-TIME:20210328T030000
TZNAME:CEST
TZOFFSETFROM:+0100
TZOFFSETTO:+0200
END:DAYLIGHT
END:VTIMEZONE
END:VCALENDAR
