BEGIN:VCALENDAR
VERSION:2.0
PRODID:-//Plone.org//NONSGML plone.app.event//EN
X-WR-TIMEZONE:Europe/Zurich
BEGIN:VEVENT
SUMMARY:Jazzgottesdienst Winkel (Bülach ZH)
DTSTART;TZID=Europe/Zurich;VALUE=DATE-TIME:20210704T110000
DTSTAMP;VALUE=DATE-TIME:20260420T201002Z
UID:633ed0194be940d2b0b4ffb69e2a076f@localhost:10681
CREATED;VALUE=DATE-TIME:20210420T155211Z
LAST-MODIFIED;VALUE=DATE-TIME:20210512T154948Z
LOCATION:Breitisaal
URL:https://www.bluechurch.ch/events/jazzgottesdienst-winkel-buelach-zh
END:VEVENT
BEGIN:VTIMEZONE
TZID:Europe/Zurich
X-LIC-LOCATION:Europe/Zurich
BEGIN:DAYLIGHT
DTSTART;VALUE=DATE-TIME:20210328T030000
TZNAME:CEST
TZOFFSETFROM:+0100
TZOFFSETTO:+0200
END:DAYLIGHT
END:VTIMEZONE
END:VCALENDAR
