BEGIN:VCALENDAR
VERSION:2.0
PRODID:-//Plone.org//NONSGML plone.app.event//EN
X-WR-TIMEZONE:Europe/Zurich
BEGIN:VEVENT
SUMMARY:Jazzgottesdienst & Matinee 'It's Huldrych'
DTSTART;TZID=Europe/Zurich;VALUE=DATE-TIME:20191006T100000
DTSTAMP;VALUE=DATE-TIME:20260420T135423Z
UID:6035931037924f6bb5460be6fd6d813e@localhost:10681
CREATED;VALUE=DATE-TIME:20191004T193712Z
LAST-MODIFIED;VALUE=DATE-TIME:20191004T193712Z
LOCATION:Reformierte Kirche Stäfa
URL:https://www.bluechurch.ch/events/jazzgottesdienst-matinee-its-huldrych
END:VEVENT
BEGIN:VTIMEZONE
TZID:Europe/Zurich
X-LIC-LOCATION:Europe/Zurich
BEGIN:DAYLIGHT
DTSTART;VALUE=DATE-TIME:20190331T030000
TZNAME:CEST
TZOFFSETFROM:+0100
TZOFFSETTO:+0200
END:DAYLIGHT
END:VTIMEZONE
END:VCALENDAR
