BEGIN:VCALENDAR
VERSION:2.0
PRODID:-//Plone.org//NONSGML plone.app.event//EN
X-WR-TIMEZONE:Europe/Zurich
BEGIN:VEVENT
SUMMARY:Jazzgottesdienst - Geist. Gegenwart. Improvisation
DTSTART;TZID=Europe/Zurich;VALUE=DATE-TIME:20191006T180000
DTSTAMP;VALUE=DATE-TIME:20260420T135301Z
UID:2278347152db4d4babbc33617a7c0a5a@localhost:10681
CREATED;VALUE=DATE-TIME:20190904T172718Z
LAST-MODIFIED;VALUE=DATE-TIME:20190904T172811Z
LOCATION:Markuskirche\, Sieglitzhofer Straße 4
URL:https://www.bluechurch.ch/events/jazzgottesdienst-geist-gegenwart-impr
 ovisation
END:VEVENT
BEGIN:VTIMEZONE
TZID:Europe/Zurich
X-LIC-LOCATION:Europe/Zurich
BEGIN:DAYLIGHT
DTSTART;VALUE=DATE-TIME:20190331T030000
TZNAME:CEST
TZOFFSETFROM:+0100
TZOFFSETTO:+0200
END:DAYLIGHT
END:VTIMEZONE
END:VCALENDAR
