BEGIN:VCALENDAR
VERSION:2.0
PRODID:-//Plone.org//NONSGML plone.app.event//EN
X-WR-TIMEZONE:Europe/Zurich
BEGIN:VEVENT
SUMMARY:Jazzgottesdienst Backnang und Matt's Jazzclub
DTSTART;TZID=Europe/Zurich;VALUE=DATE-TIME:20261204T183000
DTSTAMP;VALUE=DATE-TIME:20260424T182725Z
UID:367cabdc18934ff8a0d37bf422304067@localhost:10681
CREATED;VALUE=DATE-TIME:20251106T082444Z
LAST-MODIFIED;VALUE=DATE-TIME:20251106T082444Z
LOCATION:Matthäuskirche
URL:https://www.bluechurch.ch/events/jazzgottesdienst-backnang-und-matts-j
 azzclub-8
END:VEVENT
BEGIN:VTIMEZONE
TZID:Europe/Zurich
X-LIC-LOCATION:Europe/Zurich
BEGIN:STANDARD
DTSTART;VALUE=DATE-TIME:20261025T020000
TZNAME:CET
TZOFFSETFROM:+0200
TZOFFSETTO:+0100
END:STANDARD
END:VTIMEZONE
END:VCALENDAR
