BEGIN:VCALENDAR
VERSION:2.0
PRODID:-//Plone.org//NONSGML plone.app.event//EN
X-WR-TIMEZONE:Europe/Zurich
BEGIN:VEVENT
SUMMARY:Jazzgottesdienst Backnang und Matt's Jazzclub
DTSTART;TZID=Europe/Zurich;VALUE=DATE-TIME:20260925T183000
DTSTAMP;VALUE=DATE-TIME:20260421T122147Z
UID:036452ae44874f519d19a402e088cb59@localhost:10681
CREATED;VALUE=DATE-TIME:20251106T082335Z
LAST-MODIFIED;VALUE=DATE-TIME:20251106T082336Z
LOCATION:Matthäuskirche
URL:https://www.bluechurch.ch/events/jazzgottesdienst-backnang-und-matts-j
 azzclub-7
END:VEVENT
BEGIN:VTIMEZONE
TZID:Europe/Zurich
X-LIC-LOCATION:Europe/Zurich
BEGIN:DAYLIGHT
DTSTART;VALUE=DATE-TIME:20260329T030000
TZNAME:CEST
TZOFFSETFROM:+0100
TZOFFSETTO:+0200
END:DAYLIGHT
END:VTIMEZONE
END:VCALENDAR
