BEGIN:VCALENDAR
VERSION:2.0
PRODID:-//Plone.org//NONSGML plone.app.event//EN
X-WR-TIMEZONE:Europe/Zurich
BEGIN:VEVENT
SUMMARY:Jazzgottesdienst Backnang und Matt's Jazzclub
DTSTART;TZID=Europe/Zurich;VALUE=DATE-TIME:20260417T183000
DTSTAMP;VALUE=DATE-TIME:20260420T102740Z
UID:4d17e6070e4d4b36b2ba65a3ccaa83ec@localhost:10681
CREATED;VALUE=DATE-TIME:20251106T082038Z
LAST-MODIFIED;VALUE=DATE-TIME:20251106T082604Z
LOCATION:Matthäuskirche
URL:https://www.bluechurch.ch/events/jazzgottesdienst-backnang-und-matts-j
 azzclub-6
END:VEVENT
BEGIN:VTIMEZONE
TZID:Europe/Zurich
X-LIC-LOCATION:Europe/Zurich
BEGIN:DAYLIGHT
DTSTART;VALUE=DATE-TIME:20260329T030000
TZNAME:CEST
TZOFFSETFROM:+0100
TZOFFSETTO:+0200
END:DAYLIGHT
END:VTIMEZONE
END:VCALENDAR
