BEGIN:VCALENDAR
VERSION:2.0
PRODID:-//Plone.org//NONSGML plone.app.event//EN
X-WR-TIMEZONE:Europe/Zurich
BEGIN:VEVENT
SUMMARY:Jazzgottesdienst
DTSTART;TZID=Europe/Zurich;VALUE=DATE-TIME:20210905T100000
DTSTAMP;VALUE=DATE-TIME:20260420T200914Z
UID:6fb247c7b0ce4bb3a0bd3d73687420d7@localhost:10681
CREATED;VALUE=DATE-TIME:20210831T093106Z
LAST-MODIFIED;VALUE=DATE-TIME:20210831T093106Z
LOCATION:Neue Kirche Albisrieden\, Ginsterstrasse 50
URL:https://www.bluechurch.ch/events/jazzgottesdienst-1
END:VEVENT
BEGIN:VTIMEZONE
TZID:Europe/Zurich
X-LIC-LOCATION:Europe/Zurich
BEGIN:DAYLIGHT
DTSTART;VALUE=DATE-TIME:20210328T030000
TZNAME:CEST
TZOFFSETFROM:+0100
TZOFFSETTO:+0200
END:DAYLIGHT
END:VTIMEZONE
END:VCALENDAR
