BEGIN:VCALENDAR
VERSION:2.0
PRODID:-//Plone.org//NONSGML plone.app.event//EN
X-WR-TIMEZONE:Europe/Zurich
BEGIN:VEVENT
SUMMARY:Jazz Vespers at Cafe Museum Passau (LiveStream)
DTSTART;TZID=Europe/Zurich;VALUE=DATE-TIME:20210530T200000
DTSTAMP;VALUE=DATE-TIME:20260420T184327Z
UID:42d1e96a0f484cc69f412109a6d7268d@localhost:10681
CREATED;VALUE=DATE-TIME:20210508T051806Z
LAST-MODIFIED;VALUE=DATE-TIME:20210508T052020Z
LOCATION:Cafe Museum Passau
URL:https://www.bluechurch.ch/events/jazz-vespers-at-cafe-museum-passau-li
 vestream
END:VEVENT
BEGIN:VTIMEZONE
TZID:Europe/Zurich
X-LIC-LOCATION:Europe/Zurich
BEGIN:DAYLIGHT
DTSTART;VALUE=DATE-TIME:20210328T030000
TZNAME:CEST
TZOFFSETFROM:+0100
TZOFFSETTO:+0200
END:DAYLIGHT
END:VTIMEZONE
END:VCALENDAR
