BEGIN:VCALENDAR
VERSION:2.0
PRODID:-//Plone.org//NONSGML plone.app.event//EN
X-WR-TIMEZONE:Europe/Zurich
BEGIN:VEVENT
SUMMARY:Jazz Vesper
DTSTART;TZID=Europe/Zurich;VALUE=DATE-TIME:20200118T180000
DTSTAMP;VALUE=DATE-TIME:20260420T153432Z
UID:7486126fdc8543dfb5aa8642b64afa83@localhost:10681
CREATED;VALUE=DATE-TIME:20200117T180602Z
LAST-MODIFIED;VALUE=DATE-TIME:20200117T181617Z
LOCATION:ref.Kirche St.Arbogast
URL:https://www.bluechurch.ch/events/jazz-vesper-john-voirol-franziska-bru
 ecker
END:VEVENT
BEGIN:VTIMEZONE
TZID:Europe/Zurich
X-LIC-LOCATION:Europe/Zurich
BEGIN:STANDARD
DTSTART;VALUE=DATE-TIME:20191027T020000
TZNAME:CET
TZOFFSETFROM:+0200
TZOFFSETTO:+0100
END:STANDARD
END:VTIMEZONE
END:VCALENDAR
