BEGIN:VCALENDAR
VERSION:2.0
PRODID:-//Plone.org//NONSGML plone.app.event//EN
X-WR-TIMEZONE:Europe/Zurich
BEGIN:VEVENT
SUMMARY:Jazz Vesper
DTSTART;TZID=Europe/Zurich;VALUE=DATE-TIME:20190324T180000
DTSTAMP;VALUE=DATE-TIME:20260420T170127Z
UID:a77638ffcf914a7192310d70198c9482@localhost:10681
CREATED;VALUE=DATE-TIME:20190228T152330Z
LAST-MODIFIED;VALUE=DATE-TIME:20190228T154636Z
LOCATION:St.Franziskuskirche\, Stämpflistrasse 26\, 3052 Zollikofen
URL:https://www.bluechurch.ch/events/jazz-vesper-7
END:VEVENT
BEGIN:VTIMEZONE
TZID:Europe/Zurich
X-LIC-LOCATION:Europe/Zurich
BEGIN:STANDARD
DTSTART;VALUE=DATE-TIME:20181028T020000
TZNAME:CET
TZOFFSETFROM:+0200
TZOFFSETTO:+0100
END:STANDARD
END:VTIMEZONE
END:VCALENDAR
