BEGIN:VCALENDAR
VERSION:2.0
PRODID:-//Plone.org//NONSGML plone.app.event//EN
X-WR-TIMEZONE:Europe/Zurich
BEGIN:VEVENT
SUMMARY:Jazz Vesper
DTSTART;TZID=Europe/Zurich;VALUE=DATE-TIME:20190323T180000
DTSTAMP;VALUE=DATE-TIME:20260420T170126Z
UID:e6606eacc595496ca579361ab32aeb13@localhost:10681
CREATED;VALUE=DATE-TIME:20190228T152144Z
LAST-MODIFIED;VALUE=DATE-TIME:20190228T154550Z
LOCATION:St.Martinskirche\, Bernstrasse 16\, 3076 Worb
URL:https://www.bluechurch.ch/events/jazz-vesper-6
END:VEVENT
BEGIN:VTIMEZONE
TZID:Europe/Zurich
X-LIC-LOCATION:Europe/Zurich
BEGIN:STANDARD
DTSTART;VALUE=DATE-TIME:20181028T020000
TZNAME:CET
TZOFFSETFROM:+0200
TZOFFSETTO:+0100
END:STANDARD
END:VTIMEZONE
END:VCALENDAR
