BEGIN:VCALENDAR
VERSION:2.0
PRODID:-//Plone.org//NONSGML plone.app.event//EN
X-WR-TIMEZONE:Europe/Zurich
BEGIN:VEVENT
SUMMARY:Jazz Vesper
DTSTART;TZID=Europe/Zurich;VALUE=DATE-TIME:20190315T190000
DTSTAMP;VALUE=DATE-TIME:20260420T170126Z
UID:57c559c26ce04f56b30ca829b64b7ed7@localhost:10681
CREATED;VALUE=DATE-TIME:20190228T151840Z
LAST-MODIFIED;VALUE=DATE-TIME:20190228T154435Z
LOCATION:Dreifaltigkeitskirche\, Taubenstrasse 4\, 3011 Bern
URL:https://www.bluechurch.ch/events/jazz-vesper-5
END:VEVENT
BEGIN:VTIMEZONE
TZID:Europe/Zurich
X-LIC-LOCATION:Europe/Zurich
BEGIN:STANDARD
DTSTART;VALUE=DATE-TIME:20181028T020000
TZNAME:CET
TZOFFSETFROM:+0200
TZOFFSETTO:+0100
END:STANDARD
END:VTIMEZONE
END:VCALENDAR
