BEGIN:VCALENDAR
VERSION:2.0
PRODID:-//Plone.org//NONSGML plone.app.event//EN
X-WR-TIMEZONE:Europe/Zurich
BEGIN:VEVENT
SUMMARY:Jazz Vesper
DTSTART;TZID=Europe/Zurich;VALUE=DATE-TIME:20211031T170000
DTSTAMP;VALUE=DATE-TIME:20260420T195825Z
UID:034873ffa95b493a87eb0995b64550ed@localhost:10681
CREATED;VALUE=DATE-TIME:20210917T112119Z
LAST-MODIFIED;VALUE=DATE-TIME:20210917T112119Z
LOCATION:Kirche St.Antonius
URL:https://www.bluechurch.ch/events/jazz-vesper-15
END:VEVENT
BEGIN:VTIMEZONE
TZID:Europe/Zurich
X-LIC-LOCATION:Europe/Zurich
BEGIN:STANDARD
DTSTART;VALUE=DATE-TIME:20211031T020000
TZNAME:CET
TZOFFSETFROM:+0200
TZOFFSETTO:+0100
END:STANDARD
END:VTIMEZONE
END:VCALENDAR
