BEGIN:VCALENDAR
VERSION:2.0
PRODID:-//Plone.org//NONSGML plone.app.event//EN
X-WR-TIMEZONE:Europe/Zurich
BEGIN:VEVENT
SUMMARY:Jazz Vesper
DTSTART;TZID=Europe/Zurich;VALUE=DATE-TIME:20200927T170000
DTSTAMP;VALUE=DATE-TIME:20260420T170126Z
UID:4d535c5108b54102a63bf554c5c5fdb3@localhost:10681
CREATED;VALUE=DATE-TIME:20200726T164635Z
LAST-MODIFIED;VALUE=DATE-TIME:20200726T164923Z
LOCATION:St.Mauritiuskirche\, Waldmannstrasse 60\, 3027 Bern
URL:https://www.bluechurch.ch/events/jazz-vesper-14
END:VEVENT
BEGIN:VTIMEZONE
TZID:Europe/Zurich
X-LIC-LOCATION:Europe/Zurich
BEGIN:DAYLIGHT
DTSTART;VALUE=DATE-TIME:20200329T030000
TZNAME:CEST
TZOFFSETFROM:+0100
TZOFFSETTO:+0200
END:DAYLIGHT
END:VTIMEZONE
END:VCALENDAR
