BEGIN:VCALENDAR
VERSION:2.0
PRODID:-//Plone.org//NONSGML plone.app.event//EN
X-WR-TIMEZONE:Europe/Zurich
BEGIN:VEVENT
SUMMARY:Jazz Vesper
DTSTART;TZID=Europe/Zurich;VALUE=DATE-TIME:20200925T190000
DTSTAMP;VALUE=DATE-TIME:20260420T170152Z
UID:5cd2d7f65aee44868c78feb94774d6e6@localhost:10681
CREATED;VALUE=DATE-TIME:20200726T164518Z
LAST-MODIFIED;VALUE=DATE-TIME:20200726T164853Z
LOCATION:Dreifaltigkeitskirche\, Taubenstrasse 4\, 3011 Bern
URL:https://www.bluechurch.ch/events/jazz-vesper-13
END:VEVENT
BEGIN:VTIMEZONE
TZID:Europe/Zurich
X-LIC-LOCATION:Europe/Zurich
BEGIN:DAYLIGHT
DTSTART;VALUE=DATE-TIME:20200329T030000
TZNAME:CEST
TZOFFSETFROM:+0100
TZOFFSETTO:+0200
END:DAYLIGHT
END:VTIMEZONE
END:VCALENDAR
