BEGIN:VCALENDAR
VERSION:2.0
PRODID:-//Plone.org//NONSGML plone.app.event//EN
X-WR-TIMEZONE:Europe/Zurich
BEGIN:VEVENT
SUMMARY:Jazz Vesper
DTSTART;TZID=Europe/Zurich;VALUE=DATE-TIME:20200905T180000
DTSTAMP;VALUE=DATE-TIME:20260420T170152Z
UID:f0ce900fc2a34778ba59938d0d910bc2@localhost:10681
CREATED;VALUE=DATE-TIME:20200726T164343Z
LAST-MODIFIED;VALUE=DATE-TIME:20200726T164827Z
LOCATION:St.Martinskirche\, Bernstrasse 16\, 3076 Worb
URL:https://www.bluechurch.ch/events/jazz-vesper-12
END:VEVENT
BEGIN:VTIMEZONE
TZID:Europe/Zurich
X-LIC-LOCATION:Europe/Zurich
BEGIN:DAYLIGHT
DTSTART;VALUE=DATE-TIME:20200329T030000
TZNAME:CEST
TZOFFSETFROM:+0100
TZOFFSETTO:+0200
END:DAYLIGHT
END:VTIMEZONE
END:VCALENDAR
