BEGIN:VCALENDAR
VERSION:2.0
PRODID:-//Plone.org//NONSGML plone.app.event//EN
X-WR-TIMEZONE:Europe/Zurich
BEGIN:VEVENT
SUMMARY:Jazz Vesper mit Franziska Bruecker-voc\, John Voirol-sax/perc\, Ch
 ristian Kelter-speaker
DTSTART;TZID=Europe/Zurich;VALUE=DATE-TIME:20190920T193000
DTSTAMP;VALUE=DATE-TIME:20260420T152053Z
UID:a00e83308a594f3089cbd31919bf54ff@localhost:10681
CREATED;VALUE=DATE-TIME:20190819T093009Z
LAST-MODIFIED;VALUE=DATE-TIME:20190912T104503Z
LOCATION:Pfarrkirche Heilig Geist\, Zentrumstrasse 3
URL:https://www.bluechurch.ch/events/jazz-vesper-11
END:VEVENT
BEGIN:VTIMEZONE
TZID:Europe/Zurich
X-LIC-LOCATION:Europe/Zurich
BEGIN:DAYLIGHT
DTSTART;VALUE=DATE-TIME:20190331T030000
TZNAME:CEST
TZOFFSETFROM:+0100
TZOFFSETTO:+0200
END:DAYLIGHT
END:VTIMEZONE
END:VCALENDAR
