BEGIN:VCALENDAR
VERSION:2.0
PRODID:-//Plone.org//NONSGML plone.app.event//EN
X-WR-TIMEZONE:Europe/Zurich
BEGIN:VEVENT
SUMMARY:Jazz-Psalmenrezital
DTSTART;TZID=Europe/Zurich;VALUE=DATE-TIME:20220508T190000
DTSTAMP;VALUE=DATE-TIME:20260420T231621Z
UID:3e9e6f0fc0584733b8eb0e1a9c165097@localhost:10681
CREATED;VALUE=DATE-TIME:20220205T170834Z
LAST-MODIFIED;VALUE=DATE-TIME:20220416T160207Z
LOCATION:Jazzkirche Zürich\, Ginsterstrasse 50
URL:https://www.bluechurch.ch/events/jazz-psalmenrezital
END:VEVENT
BEGIN:VTIMEZONE
TZID:Europe/Zurich
X-LIC-LOCATION:Europe/Zurich
BEGIN:DAYLIGHT
DTSTART;VALUE=DATE-TIME:20220327T030000
TZNAME:CEST
TZOFFSETFROM:+0100
TZOFFSETTO:+0200
END:DAYLIGHT
END:VTIMEZONE
END:VCALENDAR
