BEGIN:VCALENDAR
VERSION:2.0
PRODID:-//Plone.org//NONSGML plone.app.event//EN
X-WR-TIMEZONE:Europe/Zurich
BEGIN:VEVENT
SUMMARY:JAZZ&MORE
DTSTART;TZID=Europe/Zurich;VALUE=DATE-TIME:20190630T170000
DTSTAMP;VALUE=DATE-TIME:20260420T152818Z
UID:e3f6dbc587bc4687b843ce3dfdc4a156@localhost:10681
CREATED;VALUE=DATE-TIME:20190605T132335Z
LAST-MODIFIED;VALUE=DATE-TIME:20190605T132335Z
LOCATION:Reformierte Kirche am See\, Meilen
URL:https://www.bluechurch.ch/events/jazz-more
END:VEVENT
BEGIN:VTIMEZONE
TZID:Europe/Zurich
X-LIC-LOCATION:Europe/Zurich
BEGIN:DAYLIGHT
DTSTART;VALUE=DATE-TIME:20190331T030000
TZNAME:CEST
TZOFFSETFROM:+0100
TZOFFSETTO:+0200
END:DAYLIGHT
END:VTIMEZONE
END:VCALENDAR
