BEGIN:VCALENDAR
VERSION:2.0
PRODID:-//Plone.org//NONSGML plone.app.event//EN
X-WR-TIMEZONE:Europe/Zurich
BEGIN:VEVENT
SUMMARY:JAZZ&MORE mit Roland von Flüe\, Bassklarinette und Live-Electroni
 cs\, mit Daniel Eschmann\, Wort
DTSTART;TZID=Europe/Zurich;VALUE=DATE-TIME:20220101T170000
DTSTAMP;VALUE=DATE-TIME:20260420T214613Z
UID:8d79cf1d4b5540c19f35bf2864e7da27@localhost:10681
CREATED;VALUE=DATE-TIME:20211120T174413Z
LAST-MODIFIED;VALUE=DATE-TIME:20211125T212737Z
LOCATION:Ref. Kirche am See
URL:https://www.bluechurch.ch/events/jazz-more-mit-roland-von-fluee-basskl
 arinette-und-live-electronics-mit-daniel-eschmann-wort
END:VEVENT
BEGIN:VTIMEZONE
TZID:Europe/Zurich
X-LIC-LOCATION:Europe/Zurich
BEGIN:STANDARD
DTSTART;VALUE=DATE-TIME:20211031T020000
TZNAME:CET
TZOFFSETFROM:+0200
TZOFFSETTO:+0100
END:STANDARD
END:VTIMEZONE
END:VCALENDAR
