BEGIN:VCALENDAR
VERSION:2.0
PRODID:-//Plone.org//NONSGML plone.app.event//EN
X-WR-TIMEZONE:Europe/Zurich
BEGIN:VEVENT
SUMMARY:JAZZ&MORE mit Raphael Jost Standards Trio        .        .       
   (maximal 50 Zuhörer)
DTSTART;TZID=Europe/Zurich;VALUE=DATE-TIME:20201115T170000
DTSTAMP;VALUE=DATE-TIME:20260420T184034Z
UID:40ca9c69adfe490692fa9e86147f1d57@localhost:10681
CREATED;VALUE=DATE-TIME:20200803T064603Z
LAST-MODIFIED;VALUE=DATE-TIME:20201104T151237Z
LOCATION:Kirche am See
URL:https://www.bluechurch.ch/events/jazz-more-mit-raphael-jost-standards-
 trio
END:VEVENT
BEGIN:VTIMEZONE
TZID:Europe/Zurich
X-LIC-LOCATION:Europe/Zurich
BEGIN:STANDARD
DTSTART;VALUE=DATE-TIME:20201025T020000
TZNAME:CET
TZOFFSETFROM:+0200
TZOFFSETTO:+0100
END:STANDARD
END:VTIMEZONE
END:VCALENDAR
