BEGIN:VCALENDAR
VERSION:2.0
PRODID:-//Plone.org//NONSGML plone.app.event//EN
X-WR-TIMEZONE:Europe/Zurich
BEGIN:VEVENT
SUMMARY:JAZZ&MORE mit Lilly Martin Band
DTSTART;TZID=Europe/Zurich;VALUE=DATE-TIME:20191117T170000
DTSTAMP;VALUE=DATE-TIME:20260420T153102Z
UID:89fc197c7ac14ae2b1fc2985b200b82d@localhost:10681
CREATED;VALUE=DATE-TIME:20190922T200338Z
LAST-MODIFIED;VALUE=DATE-TIME:20190922T200338Z
LOCATION:Meilen
URL:https://www.bluechurch.ch/events/jazz-more-mit-lilly-martin-band
END:VEVENT
BEGIN:VTIMEZONE
TZID:Europe/Zurich
X-LIC-LOCATION:Europe/Zurich
BEGIN:STANDARD
DTSTART;VALUE=DATE-TIME:20191027T020000
TZNAME:CET
TZOFFSETFROM:+0200
TZOFFSETTO:+0100
END:STANDARD
END:VTIMEZONE
END:VCALENDAR
