BEGIN:VCALENDAR
VERSION:2.0
PRODID:-//Plone.org//NONSGML plone.app.event//EN
X-WR-TIMEZONE:Europe/Zurich
BEGIN:VEVENT
SUMMARY:DADO MORONI am Neujahr in Meilen
DTSTART;TZID=Europe/Zurich;VALUE=DATE-TIME:20200101T170000
DTSTAMP;VALUE=DATE-TIME:20260420T153141Z
UID:8aac0cec441d403ab90da960f8a8f1d3@localhost:10681
CREATED;VALUE=DATE-TIME:20190922T200450Z
LAST-MODIFIED;VALUE=DATE-TIME:20191114T153356Z
LOCATION:Ref. Kirche am See
URL:https://www.bluechurch.ch/events/jazz-more-mit-lilly-martin-band-1
END:VEVENT
BEGIN:VTIMEZONE
TZID:Europe/Zurich
X-LIC-LOCATION:Europe/Zurich
BEGIN:STANDARD
DTSTART;VALUE=DATE-TIME:20191027T020000
TZNAME:CET
TZOFFSETFROM:+0200
TZOFFSETTO:+0100
END:STANDARD
END:VTIMEZONE
END:VCALENDAR
