BEGIN:VCALENDAR
VERSION:2.0
PRODID:-//Plone.org//NONSGML plone.app.event//EN
X-WR-TIMEZONE:Europe/Zurich
BEGIN:VEVENT
SUMMARY:JAZZ&MORE mit der Tiny Big Band
DTSTART;TZID=Europe/Zurich;VALUE=DATE-TIME:20220313T170000
DTSTAMP;VALUE=DATE-TIME:20260420T214022Z
UID:39d6cb2a8ffc4b90aa2890b86de7a568@localhost:10681
CREATED;VALUE=DATE-TIME:20220126T153551Z
LAST-MODIFIED;VALUE=DATE-TIME:20220127T082913Z
LOCATION:Ref. Kirche am See
URL:https://www.bluechurch.ch/events/jazz-more-mit-der-tiny-big-band
END:VEVENT
BEGIN:VTIMEZONE
TZID:Europe/Zurich
X-LIC-LOCATION:Europe/Zurich
BEGIN:STANDARD
DTSTART;VALUE=DATE-TIME:20211031T020000
TZNAME:CET
TZOFFSETFROM:+0200
TZOFFSETTO:+0100
END:STANDARD
END:VTIMEZONE
END:VCALENDAR
