BEGIN:VCALENDAR
VERSION:2.0
PRODID:-//Plone.org//NONSGML plone.app.event//EN
X-WR-TIMEZONE:Europe/Zurich
BEGIN:VEVENT
SUMMARY:JAZZ&MORE mit den Swingin Blue Tie !
DTSTART;TZID=Europe/Zurich;VALUE=DATE-TIME:20210307T170000
DTSTAMP;VALUE=DATE-TIME:20260420T183509Z
UID:13862ece6f584986b0fc0b66c74defe2@localhost:10681
CREATED;VALUE=DATE-TIME:20200210T081915Z
LAST-MODIFIED;VALUE=DATE-TIME:20210121T124746Z
LOCATION:Ref. Kirche am See
URL:https://www.bluechurch.ch/events/jazz-more-mit-den-swingin-blue-tie
END:VEVENT
BEGIN:VTIMEZONE
TZID:Europe/Zurich
X-LIC-LOCATION:Europe/Zurich
BEGIN:STANDARD
DTSTART;VALUE=DATE-TIME:20201025T020000
TZNAME:CET
TZOFFSETFROM:+0200
TZOFFSETTO:+0100
END:STANDARD
END:VTIMEZONE
END:VCALENDAR
