BEGIN:VCALENDAR
VERSION:2.0
PRODID:-//Plone.org//NONSGML plone.app.event//EN
X-WR-TIMEZONE:Europe/Zurich
BEGIN:VEVENT
SUMMARY:Jazz - Lyrik - Emotionen
DTSTART;TZID=Europe/Zurich;VALUE=DATE-TIME:20190928T210000
DTSTAMP;VALUE=DATE-TIME:20260420T152919Z
UID:a3869bb873094437b3591bb05e60dd4a@localhost:10681
CREATED;VALUE=DATE-TIME:20190816T145714Z
LAST-MODIFIED;VALUE=DATE-TIME:20190816T150052Z
LOCATION:Stadtkirche
URL:https://www.bluechurch.ch/events/jazz-lyrik-emotionen
END:VEVENT
BEGIN:VTIMEZONE
TZID:Europe/Zurich
X-LIC-LOCATION:Europe/Zurich
BEGIN:DAYLIGHT
DTSTART;VALUE=DATE-TIME:20190331T030000
TZNAME:CEST
TZOFFSETFROM:+0100
TZOFFSETTO:+0200
END:DAYLIGHT
END:VTIMEZONE
END:VCALENDAR
