BEGIN:VCALENDAR
VERSION:2.0
PRODID:-//Plone.org//NONSGML plone.app.event//EN
X-WR-TIMEZONE:Europe/Zurich
BEGIN:VEVENT
SUMMARY:Jazz im Kloster - Tagzeitengebete & Orgeljazz
DTSTART;TZID=Europe/Zurich;VALUE=DATE-TIME:20210819T180000
DTSTAMP;VALUE=DATE-TIME:20260420T200914Z
UID:03f3f9628f2041fb8eb24e512e4b4866@localhost:10681
CREATED;VALUE=DATE-TIME:20210521T121623Z
LAST-MODIFIED;VALUE=DATE-TIME:20210819T111327Z
LOCATION:Kloster Kappel
URL:https://www.bluechurch.ch/events/jazz-im-kloster-workshops
END:VEVENT
BEGIN:VTIMEZONE
TZID:Europe/Zurich
X-LIC-LOCATION:Europe/Zurich
BEGIN:DAYLIGHT
DTSTART;VALUE=DATE-TIME:20210328T030000
TZNAME:CEST
TZOFFSETFROM:+0100
TZOFFSETTO:+0200
END:DAYLIGHT
END:VTIMEZONE
END:VCALENDAR
